BEGIN:VCALENDAR
VERSION:2.0
PRODID:-//Lawrence Central Rotary - ECPv6.15.20//NONSGML v1.0//EN
CALSCALE:GREGORIAN
METHOD:PUBLISH
X-ORIGINAL-URL:https://lawrencecentralrotary.org
X-WR-CALDESC:Events for Lawrence Central Rotary
REFRESH-INTERVAL;VALUE=DURATION:PT1H
X-Robots-Tag:noindex
X-PUBLISHED-TTL:PT1H
BEGIN:VTIMEZONE
TZID:America/Chicago
BEGIN:DAYLIGHT
TZOFFSETFROM:-0600
TZOFFSETTO:-0500
TZNAME:CDT
DTSTART:20220313T080000
END:DAYLIGHT
BEGIN:STANDARD
TZOFFSETFROM:-0500
TZOFFSETTO:-0600
TZNAME:CST
DTSTART:20221106T070000
END:STANDARD
BEGIN:DAYLIGHT
TZOFFSETFROM:-0600
TZOFFSETTO:-0500
TZNAME:CDT
DTSTART:20230312T080000
END:DAYLIGHT
BEGIN:STANDARD
TZOFFSETFROM:-0500
TZOFFSETTO:-0600
TZNAME:CST
DTSTART:20231105T070000
END:STANDARD
BEGIN:DAYLIGHT
TZOFFSETFROM:-0600
TZOFFSETTO:-0500
TZNAME:CDT
DTSTART:20240310T080000
END:DAYLIGHT
BEGIN:STANDARD
TZOFFSETFROM:-0500
TZOFFSETTO:-0600
TZNAME:CST
DTSTART:20241103T070000
END:STANDARD
END:VTIMEZONE
BEGIN:VEVENT
DTSTART;TZID=America/Chicago:20230830T120000
DTEND;TZID=America/Chicago:20230830T130000
DTSTAMP:20260422T213654
CREATED:20230801T064250Z
LAST-MODIFIED:20230801T064250Z
UID:8648-1693396800-1693400400@lawrencecentralrotary.org
SUMMARY:Weekly Speaker; Jeanne Klein\, KU Associate Professor Emerita
DESCRIPTION:Jeanne will share a history of Lawrence’s Oak Hill Cemetery\, including her work on the “Untold Stories” project to identify African Americans buried there.  \n 
URL:https://lawrencecentralrotary.org/calendar/weekly-speaker-jeanne-klein-ku-associate-professor-emerita/
LOCATION:Lawrence Country Club\, 400 Country Club Terrace\, Lawrence\, KS\, 66049\, United States
CATEGORIES:Weekly Meeting
END:VEVENT
END:VCALENDAR