BEGIN:VCALENDAR
VERSION:2.0
PRODID:-//Lawrence Central Rotary - ECPv6.15.20//NONSGML v1.0//EN
CALSCALE:GREGORIAN
METHOD:PUBLISH
X-WR-CALNAME:Lawrence Central Rotary
X-ORIGINAL-URL:https://lawrencecentralrotary.org
X-WR-CALDESC:Events for Lawrence Central Rotary
REFRESH-INTERVAL;VALUE=DURATION:PT1H
X-Robots-Tag:noindex
X-PUBLISHED-TTL:PT1H
BEGIN:VTIMEZONE
TZID:America/Chicago
BEGIN:DAYLIGHT
TZOFFSETFROM:-0600
TZOFFSETTO:-0500
TZNAME:CDT
DTSTART:20250309T080000
END:DAYLIGHT
BEGIN:STANDARD
TZOFFSETFROM:-0500
TZOFFSETTO:-0600
TZNAME:CST
DTSTART:20251102T070000
END:STANDARD
BEGIN:DAYLIGHT
TZOFFSETFROM:-0600
TZOFFSETTO:-0500
TZNAME:CDT
DTSTART:20260308T080000
END:DAYLIGHT
BEGIN:STANDARD
TZOFFSETFROM:-0500
TZOFFSETTO:-0600
TZNAME:CST
DTSTART:20261101T070000
END:STANDARD
BEGIN:DAYLIGHT
TZOFFSETFROM:-0600
TZOFFSETTO:-0500
TZNAME:CDT
DTSTART:20270314T080000
END:DAYLIGHT
BEGIN:STANDARD
TZOFFSETFROM:-0500
TZOFFSETTO:-0600
TZNAME:CST
DTSTART:20271107T070000
END:STANDARD
END:VTIMEZONE
BEGIN:VEVENT
DTSTART;TZID=America/Chicago:20260520T120000
DTEND;TZID=America/Chicago:20260520T130000
DTSTAMP:20260421T130812
CREATED:20260402T204421Z
LAST-MODIFIED:20260402T204421Z
UID:10420-1779278400-1779282000@lawrencecentralrotary.org
SUMMARY:Club Business Meeting
DESCRIPTION:The Lawrence Central Rotary Club is thrilled to welcome a new member and to provide an overview of club business.
URL:https://lawrencecentralrotary.org/calendar/club-business-meeting/
LOCATION:Lawrence Country Club\, 400 Country Club Terrace\, Lawrence\, KS\, 66049\, United States
CATEGORIES:Business Meeting
END:VEVENT
END:VCALENDAR