BEGIN:VCALENDAR
VERSION:2.0
PRODID:-//Lawrence Central Rotary - ECPv6.15.20//NONSGML v1.0//EN
CALSCALE:GREGORIAN
METHOD:PUBLISH
X-ORIGINAL-URL:https://lawrencecentralrotary.org
X-WR-CALDESC:Events for Lawrence Central Rotary
REFRESH-INTERVAL;VALUE=DURATION:PT1H
X-Robots-Tag:noindex
X-PUBLISHED-TTL:PT1H
BEGIN:VTIMEZONE
TZID:America/Chicago
BEGIN:DAYLIGHT
TZOFFSETFROM:-0600
TZOFFSETTO:-0500
TZNAME:CDT
DTSTART:20240310T080000
END:DAYLIGHT
BEGIN:STANDARD
TZOFFSETFROM:-0500
TZOFFSETTO:-0600
TZNAME:CST
DTSTART:20241103T070000
END:STANDARD
BEGIN:DAYLIGHT
TZOFFSETFROM:-0600
TZOFFSETTO:-0500
TZNAME:CDT
DTSTART:20250309T080000
END:DAYLIGHT
BEGIN:STANDARD
TZOFFSETFROM:-0500
TZOFFSETTO:-0600
TZNAME:CST
DTSTART:20251102T070000
END:STANDARD
BEGIN:DAYLIGHT
TZOFFSETFROM:-0600
TZOFFSETTO:-0500
TZNAME:CDT
DTSTART:20260308T080000
END:DAYLIGHT
BEGIN:STANDARD
TZOFFSETFROM:-0500
TZOFFSETTO:-0600
TZNAME:CST
DTSTART:20261101T070000
END:STANDARD
END:VTIMEZONE
BEGIN:VEVENT
DTSTART;TZID=America/Chicago:20250402T173000
DTEND;TZID=America/Chicago:20250402T193000
DTSTAMP:20260422T042339
CREATED:20250401T031415Z
LAST-MODIFIED:20250401T031415Z
UID:9717-1743615000-1743622200@lawrencecentralrotary.org
SUMMARY:LCR Anniversary Dinner
DESCRIPTION:In lieu of our weekly meeting\, we’ll be meeting at the Lawrence County Club on Wednesday\, beginning at 5:30pm\, to celebrate another year of the Lawrence Central Club!
URL:https://lawrencecentralrotary.org/calendar/lcr-anniversary-dinner/
LOCATION:Lawrence Country Club\, 400 Country Club Terrace\, Lawrence\, KS\, 66049\, United States
CATEGORIES:Party
END:VEVENT
END:VCALENDAR