BEGIN:VCALENDAR
VERSION:2.0
PRODID:-//Lawrence Central Rotary - ECPv6.15.20//NONSGML v1.0//EN
CALSCALE:GREGORIAN
METHOD:PUBLISH
X-WR-CALNAME:Lawrence Central Rotary
X-ORIGINAL-URL:https://lawrencecentralrotary.org
X-WR-CALDESC:Events for Lawrence Central Rotary
REFRESH-INTERVAL;VALUE=DURATION:PT1H
X-Robots-Tag:noindex
X-PUBLISHED-TTL:PT1H
BEGIN:VTIMEZONE
TZID:America/Chicago
BEGIN:DAYLIGHT
TZOFFSETFROM:-0600
TZOFFSETTO:-0500
TZNAME:CDT
DTSTART:20220313T080000
END:DAYLIGHT
BEGIN:STANDARD
TZOFFSETFROM:-0500
TZOFFSETTO:-0600
TZNAME:CST
DTSTART:20221106T070000
END:STANDARD
BEGIN:DAYLIGHT
TZOFFSETFROM:-0600
TZOFFSETTO:-0500
TZNAME:CDT
DTSTART:20230312T080000
END:DAYLIGHT
BEGIN:STANDARD
TZOFFSETFROM:-0500
TZOFFSETTO:-0600
TZNAME:CST
DTSTART:20231105T070000
END:STANDARD
BEGIN:DAYLIGHT
TZOFFSETFROM:-0600
TZOFFSETTO:-0500
TZNAME:CDT
DTSTART:20240310T080000
END:DAYLIGHT
BEGIN:STANDARD
TZOFFSETFROM:-0500
TZOFFSETTO:-0600
TZNAME:CST
DTSTART:20241103T070000
END:STANDARD
END:VTIMEZONE
BEGIN:VEVENT
DTSTART;TZID=America/Chicago:20231018T120000
DTEND;TZID=America/Chicago:20231018T130000
DTSTAMP:20260421T115034
CREATED:20231009T222455Z
LAST-MODIFIED:20231009T222455Z
UID:8804-1697630400-1697634000@lawrencecentralrotary.org
SUMMARY:Weekly Speaker; Patti Mellard
DESCRIPTION:Patti Mellard\, the founder and CEO of Key Staffing and Premier Employment Solutions\, will join us for a discussion. Patti has served on boards with organizations to include the Topeka Chamber of Commerce\, United Way of Topeka and more. \n  \n 
URL:https://lawrencecentralrotary.org/calendar/weekly-speaker-patti-mellard/
LOCATION:Lawrence Country Club\, 400 Country Club Terrace\, Lawrence\, KS\, 66049\, United States
CATEGORIES:Weekly Meeting
ATTACH;FMTTYPE=image/jpeg:https://lawrencecentralrotary.org/wp-content/uploads/2023/10/Mellard-head-shot-768x615-1.jpg
END:VEVENT
BEGIN:VEVENT
DTSTART;TZID=America/Chicago:20231011T170000
DTEND;TZID=America/Chicago:20231011T190000
DTSTAMP:20260421T115034
CREATED:20230907T094835Z
LAST-MODIFIED:20230927T180108Z
UID:8717-1697043600-1697050800@lawrencecentralrotary.org
SUMMARY:Maceli’s Night Project
DESCRIPTION:In lieu of our normal Wednesday meeting\, we’ll instead meet at Maceli’s to distribute all of the snacks collected through our drive. Hors d’oeuvres and drinks are included!
URL:https://lawrencecentralrotary.org/calendar/arterra-night-project/
LOCATION:Maceli’s\, 1031 New Hampshire St.\, Lawrence\, 66044\, United States
CATEGORIES:Weekly Meeting
END:VEVENT
BEGIN:VEVENT
DTSTART;TZID=America/Chicago:20231004T120000
DTEND;TZID=America/Chicago:20231004T130000
DTSTAMP:20260421T115034
CREATED:20230928T193105Z
LAST-MODIFIED:20230928T193105Z
UID:8715-1696420800-1696424400@lawrencecentralrotary.org
SUMMARY:First Wednesday; Kate Campbell
DESCRIPTION:LCR Member Kate Campbell will present to us. Check back soon for more details!
URL:https://lawrencecentralrotary.org/calendar/first-wednesday-kate-campbell/
LOCATION:Lawrence Country Club\, 400 Country Club Terrace\, Lawrence\, KS\, 66049\, United States
CATEGORIES:Weekly Meeting
END:VEVENT
BEGIN:VEVENT
DTSTART;TZID=America/Chicago:20230927T120000
DTEND;TZID=America/Chicago:20230927T130000
DTSTAMP:20260421T115034
CREATED:20230907T094415Z
LAST-MODIFIED:20230907T094415Z
UID:8712-1695816000-1695819600@lawrencecentralrotary.org
SUMMARY:Weekly Speaker; Scott Sewell and Andrew Holt
DESCRIPTION:This week we’ll be honored to have Scott Sewell\, Director of Kansas Main Street at the Kansas Dept. of Commerce and Andrew Holt\, the new Executive Director of Downtown Lawrence\, Inc. (DLI) presenting to us. \nScott and his co-workers at Kansas Main Street offer programs which provide resources for revitalizing and preserving downtown areas. Andrew became the Executive Director in May\, 2023\, taking over for longtime DLI Executive Director Sally Zogry.
URL:https://lawrencecentralrotary.org/calendar/weekly-speaker-scott-sewell-and-andrew-holt/
LOCATION:Lawrence Country Club\, 400 Country Club Terrace\, Lawrence\, KS\, 66049\, United States
CATEGORIES:Weekly Meeting
END:VEVENT
BEGIN:VEVENT
DTSTART;TZID=America/Chicago:20230920T120000
DTEND;TZID=America/Chicago:20230920T130000
DTSTAMP:20260421T115034
CREATED:20230906T211818Z
LAST-MODIFIED:20230906T211818Z
UID:8707-1695211200-1695214800@lawrencecentralrotary.org
SUMMARY:Weekly Speaker; Lucinda Adams
DESCRIPTION:Lucinda Adams’\, Executive Director of Freedom’s Frontier\, will provide an overview of her work to preserve stories from the Kansas and Missouri area from years past. “Adams has over 20 years of experience in the field of history and historical preservation. She joins Freedom’s Frontier NHA from the State Historical Society of Missouri where she was Associate Director since 2014. There\, Adams led a multiyear strategic plan\, managed a 16\,000 cubic foot archival collection\, and successfully completed a multi-million-dollar capital campaign.” \n  \n 
URL:https://lawrencecentralrotary.org/calendar/weekly-speaker-lucinda-adams/
LOCATION:Lawrence Country Club\, 400 Country Club Terrace\, Lawrence\, KS\, 66049\, United States
CATEGORIES:Weekly Meeting
ATTACH;FMTTYPE=image/jpeg:https://lawrencecentralrotary.org/wp-content/uploads/2023/09/l_adams_crop-1536x1152-1.jpg
END:VEVENT
BEGIN:VEVENT
DTSTART;TZID=America/Chicago:20230913T120000
DTEND;TZID=America/Chicago:20230913T130000
DTSTAMP:20260421T115034
CREATED:20230906T211531Z
LAST-MODIFIED:20230907T092609Z
UID:8704-1694606400-1694610000@lawrencecentralrotary.org
SUMMARY:Weekly Speaker; Isaac Nary
DESCRIPTION:Join us as Isaac Nary\, Vice President of International Development\, discusses his important work for the Outreach Program. The organization is “an international non-profit with a mission to provide a future for the world’s most vulnerable children through safe water\, food\, medical care and education. His area of expertise is in the creation and installation of solar-powered water purification systems and frequently travels to Tanzania\, East Africa where Outreach has been creating social impact through those four areas since 2004.” \nIsaac is also an Assistant Governor for District 5680\, Past President of the El Dorado\, Kansas Rotary Club and was honored with ‘Rotarian of the Year’ for 2021-2022.
URL:https://lawrencecentralrotary.org/calendar/weekly-meeting-isaac-nary/
LOCATION:Lawrence Country Club\, 400 Country Club Terrace\, Lawrence\, KS\, 66049\, United States
CATEGORIES:Weekly Meeting
ATTACH;FMTTYPE=image/jpeg:https://lawrencecentralrotary.org/wp-content/uploads/2023/09/1539023733922.jpg
END:VEVENT
BEGIN:VEVENT
DTSTART;TZID=America/Chicago:20230830T120000
DTEND;TZID=America/Chicago:20230830T130000
DTSTAMP:20260421T115034
CREATED:20230801T064250Z
LAST-MODIFIED:20230801T064250Z
UID:8648-1693396800-1693400400@lawrencecentralrotary.org
SUMMARY:Weekly Speaker; Jeanne Klein\, KU Associate Professor Emerita
DESCRIPTION:Jeanne will share a history of Lawrence’s Oak Hill Cemetery\, including her work on the “Untold Stories” project to identify African Americans buried there.  \n 
URL:https://lawrencecentralrotary.org/calendar/weekly-speaker-jeanne-klein-ku-associate-professor-emerita/
LOCATION:Lawrence Country Club\, 400 Country Club Terrace\, Lawrence\, KS\, 66049\, United States
CATEGORIES:Weekly Meeting
END:VEVENT
BEGIN:VEVENT
DTSTART;TZID=America/Chicago:20230823T120000
DTEND;TZID=America/Chicago:20230823T130000
DTSTAMP:20260421T115034
CREATED:20230801T064155Z
LAST-MODIFIED:20230801T064155Z
UID:8645-1692792000-1692795600@lawrencecentralrotary.org
SUMMARY:Weekly Speaker; Jenelea Randall; Rotary District Governor 
DESCRIPTION:Governor Randall will make her official visit to our club. Let’s all show up and let her see why we’re THE GREATEST ROTARY CLUB IN THE WORLD!
URL:https://lawrencecentralrotary.org/calendar/weekly-speaker-jenelea-randall-rotary-district-governor/
LOCATION:Lawrence Country Club\, 400 Country Club Terrace\, Lawrence\, KS\, 66049\, United States
CATEGORIES:Weekly Meeting
ATTACH;FMTTYPE=image/png:https://lawrencecentralrotary.org/wp-content/uploads/2023/08/Screenshot-2023-08-01-at-1.41.40-AM.png
END:VEVENT
BEGIN:VEVENT
DTSTART;TZID=America/Chicago:20230816T120000
DTEND;TZID=America/Chicago:20230816T130000
DTSTAMP:20260421T115034
CREATED:20230801T064013Z
LAST-MODIFIED:20230801T064013Z
UID:8643-1692187200-1692190800@lawrencecentralrotary.org
SUMMARY:Weekly Speaker; Darin Pearson; Park Operations Manager at the City of Lawrence
DESCRIPTION:Darin oversees the Lawrence Rotary Arboretum and will share with us its current status and its plans for the future.
URL:https://lawrencecentralrotary.org/calendar/weekly-speaker-darin-pearson-park-operations-manager-at-the-city-of-lawrence/
LOCATION:Lawrence Country Club\, 400 Country Club Terrace\, Lawrence\, KS\, 66049\, United States
CATEGORIES:Weekly Meeting
ATTACH;FMTTYPE=image/png:https://lawrencecentralrotary.org/wp-content/uploads/2023/01/lks-logo.png
END:VEVENT
BEGIN:VEVENT
DTSTART;TZID=America/Chicago:20230809T120000
DTEND;TZID=America/Chicago:20230809T130000
DTSTAMP:20260421T115034
CREATED:20230801T063851Z
LAST-MODIFIED:20230801T063851Z
UID:8640-1691582400-1691586000@lawrencecentralrotary.org
SUMMARY:Weekly Speaker; Dan Peters; KU Endowment
DESCRIPTION:Join us as Dan Peters\, the newest President of KU Endowment\, provides an update on the their efforts at the University of Kansas.
URL:https://lawrencecentralrotary.org/calendar/weekly-speaker-dan-peters-ku-endowment/
LOCATION:Lawrence Country Club\, 400 Country Club Terrace\, Lawrence\, KS\, 66049\, United States
CATEGORIES:Weekly Meeting
ATTACH;FMTTYPE=image/png:https://lawrencecentralrotary.org/wp-content/uploads/2023/08/KU-Endowment-logo-vert-rgb-2020.png
END:VEVENT
BEGIN:VEVENT
DTSTART;TZID=America/Chicago:20230801T120000
DTEND;TZID=America/Chicago:20230801T130000
DTSTAMP:20260421T115034
CREATED:20230801T063535Z
LAST-MODIFIED:20230801T063636Z
UID:8637-1690891200-1690894800@lawrencecentralrotary.org
SUMMARY:Weekly Speaker; Jim Peters\, 'First Wednesday'
DESCRIPTION:LCR Member Jim Peters will recount what he’s experienced and learned by publishing his own book through his new company Monument Press! \n \nhttps://www2.ljworld.com/news/2012/may/27/arlington-guide-unearths-trove-history/ \n 
URL:https://lawrencecentralrotary.org/calendar/weekly-speaker-jim-peters-first-wednesday/
LOCATION:Lawrence Country Club\, 400 Country Club Terrace\, Lawrence\, KS\, 66049\, United States
CATEGORIES:Weekly Meeting
END:VEVENT
BEGIN:VEVENT
DTSTART;TZID=America/Chicago:20230712T120000
DTEND;TZID=America/Chicago:20230712T130000
DTSTAMP:20260421T115034
CREATED:20230517T085638Z
LAST-MODIFIED:20230517T085638Z
UID:8539-1689163200-1689166800@lawrencecentralrotary.org
SUMMARY:Weekly Speaker; Jamie Ulmer\, Executive Director\, Theatre Lawrence
DESCRIPTION:
URL:https://lawrencecentralrotary.org/calendar/weekly-speaker-jamie-ulmer-executive-director-theatre-lawrence/
LOCATION:Lawrence Country Club\, 400 Country Club Terrace\, Lawrence\, KS\, 66049\, United States
CATEGORIES:Weekly Meeting
END:VEVENT
BEGIN:VEVENT
DTSTART;TZID=America/Chicago:20230705T120000
DTEND;TZID=America/Chicago:20230705T130000
DTSTAMP:20260421T115034
CREATED:20230517T085603Z
LAST-MODIFIED:20230517T085603Z
UID:8537-1688558400-1688562000@lawrencecentralrotary.org
SUMMARY:Business Meeting
DESCRIPTION:
URL:https://lawrencecentralrotary.org/calendar/business-meeting/
LOCATION:Lawrence Country Club\, 400 Country Club Terrace\, Lawrence\, KS\, 66049\, United States
CATEGORIES:Business Meeting
ATTACH;FMTTYPE=image/svg+xml:https://lawrencecentralrotary.org/wp-content/uploads/2023/01/Lawrence-Central-Updated-Logo.svg
END:VEVENT
BEGIN:VEVENT
DTSTART;TZID=America/Chicago:20230628T120000
DTEND;TZID=America/Chicago:20230628T130000
DTSTAMP:20260421T115034
CREATED:20230517T085510Z
LAST-MODIFIED:20230517T085510Z
UID:8535-1687953600-1687957200@lawrencecentralrotary.org
SUMMARY:Weekly Meeting; Susan Jonasus...
DESCRIPTION:Susan Jonasus\, Author of “Hell’s Half-Acre: The Untold Story of the Benders. A Serial Killer Family of the American Frontier”. \nJoining us from Great Britain via Zoom\, Susan will share her interest in the “Bloody Benders\,” a family of serial killers who lived and operated in Labette County\, Kansas\, from May 1871\, through December 1872. \n\n\n\n 
URL:https://lawrencecentralrotary.org/calendar/weekly-meeting-susan-jonasus/
LOCATION:Lawrence Country Club\, 400 Country Club Terrace\, Lawrence\, KS\, 66049\, United States
CATEGORIES:Weekly Meeting
END:VEVENT
BEGIN:VEVENT
DTSTART;TZID=America/Chicago:20230621T120000
DTEND;TZID=America/Chicago:20230621T130000
DTSTAMP:20260421T115034
CREATED:20230517T085341Z
LAST-MODIFIED:20230517T085341Z
UID:8533-1687348800-1687352400@lawrencecentralrotary.org
SUMMARY:Weekly Meeting; Kade Meyer\, Lawrence Central Rotary Club President-Elect
DESCRIPTION:Just a few days before he takes the helm of the Lawrence Central Rotary Club—THE GREATEST ROTARY CLUB IN THE WORLD—Kade with share with us a bit about his background and interests.
URL:https://lawrencecentralrotary.org/calendar/weekly-meeting-kade-meyer-lawrence-central-rotary-club-president-elect/
LOCATION:Lawrence Country Club\, 400 Country Club Terrace\, Lawrence\, KS\, 66049\, United States
CATEGORIES:Weekly Meeting
END:VEVENT
BEGIN:VEVENT
DTSTART;TZID=America/Chicago:20230614T120000
DTEND;TZID=America/Chicago:20230614T130000
DTSTAMP:20260421T115034
CREATED:20230517T085243Z
LAST-MODIFIED:20230517T085243Z
UID:8530-1686744000-1686747600@lawrencecentralrotary.org
SUMMARY:An Arboretum Picnic
DESCRIPTION:While the Lawrence Country Club hosts a major golf tournament\, we’ll relocate to the Rotary Arboretum for a box picnic lunch supplied by Jason’s Deli. Details to follow.
URL:https://lawrencecentralrotary.org/calendar/an-arboretum-picnic/
LOCATION:Lawrence Rotary Arboretum\, 5100 W 27th St\, Lawrence\, KS\, 66047\, United States
CATEGORIES:Weekly Meeting
ATTACH;FMTTYPE=image/svg+xml:https://lawrencecentralrotary.org/wp-content/uploads/2023/01/Lawrence-Central-Updated-Logo.svg
END:VEVENT
BEGIN:VEVENT
DTSTART;TZID=America/Chicago:20230607T120000
DTEND;TZID=America/Chicago:20230607T130000
DTSTAMP:20260421T115034
CREATED:20230517T085021Z
LAST-MODIFIED:20230517T085021Z
UID:8528-1686139200-1686142800@lawrencecentralrotary.org
SUMMARY:Monthly Business Meeting
DESCRIPTION:
URL:https://lawrencecentralrotary.org/calendar/monthly-business-meeting-4/
LOCATION:Lawrence Country Club\, 400 Country Club Terrace\, Lawrence\, KS\, 66049\, United States
CATEGORIES:Business Meeting
END:VEVENT
BEGIN:VEVENT
DTSTART;TZID=America/Chicago:20230531T120000
DTEND;TZID=America/Chicago:20230531T130000
DTSTAMP:20260421T115034
CREATED:20230517T084932Z
LAST-MODIFIED:20230517T084932Z
UID:8526-1685534400-1685538000@lawrencecentralrotary.org
SUMMARY:Weekly Speaker; Steve Pierce\,  Author\, “A Joy to Discover”
DESCRIPTION:Steve will share his experience of running all 520 miles of gravel roads in Douglas County and the hundreds of photos he took of iconic scenes he saw firsthand.
URL:https://lawrencecentralrotary.org/calendar/weekly-speaker-steve-pierce-author-a-joy-to-discover/
LOCATION:Lawrence Country Club\, 400 Country Club Terrace\, Lawrence\, KS\, 66049\, United States
CATEGORIES:Weekly Meeting
END:VEVENT
BEGIN:VEVENT
DTSTART;TZID=America/Chicago:20230524T120000
DTEND;TZID=America/Chicago:20230524T130000
DTSTAMP:20260421T115034
CREATED:20230517T084838Z
LAST-MODIFIED:20230517T084838Z
UID:8524-1684929600-1684933200@lawrencecentralrotary.org
SUMMARY:Weekly Speaker; Jim Peters\, LCR Member
DESCRIPTION:To commemorate Memorial Day\, Jim will share the history of the Congressional Medal of Honor from its origin in the Civil War to its current revered status and touch on other military decorations and medals\, as well.
URL:https://lawrencecentralrotary.org/calendar/weekly-speaker-jim-peters-lcr-member/
LOCATION:Lawrence Country Club\, 400 Country Club Terrace\, Lawrence\, KS\, 66049\, United States
CATEGORIES:Weekly Meeting
END:VEVENT
BEGIN:VEVENT
DTSTART;TZID=America/Chicago:20230517T120000
DTEND;TZID=America/Chicago:20230517T130000
DTSTAMP:20260421T115034
CREATED:20230302T143709Z
LAST-MODIFIED:20230302T143709Z
UID:8472-1684324800-1684328400@lawrencecentralrotary.org
SUMMARY:Brett Hartford\, Executive Director\, Just Food
DESCRIPTION:Brett is the new executive director of Just Food and will tell us about the organization and share his plans for Lawrence’s largest food pantry.
URL:https://lawrencecentralrotary.org/calendar/brett-hartford-executive-director-just-food/
LOCATION:KS
CATEGORIES:Weekly Meeting
END:VEVENT
BEGIN:VEVENT
DTSTART;TZID=America/Chicago:20230426T120000
DTEND;TZID=America/Chicago:20230426T130000
DTSTAMP:20260421T115034
CREATED:20230125T200025Z
LAST-MODIFIED:20230125T200025Z
UID:8138-1682510400-1682514000@lawrencecentralrotary.org
SUMMARY:Lawrence Kids Calendar Panel
DESCRIPTION:A panel of members will introduce the Lawrence Kids Calendar to new members and discuss the changes that have been made to the calendars website and marketing efforts.
URL:https://lawrencecentralrotary.org/calendar/lawrence-kids-calendar-panel/
LOCATION:Lawrence Country Club\, 400 Country Club Terrace\, Lawrence\, KS\, 66049\, United States
CATEGORIES:Weekly Meeting
END:VEVENT
BEGIN:VEVENT
DTSTART;TZID=America/Chicago:20230419T190000
DTEND;TZID=America/Chicago:20230419T210000
DTSTAMP:20260421T115034
CREATED:20230125T195905Z
LAST-MODIFIED:20230201T190450Z
UID:8135-1681930800-1681938000@lawrencecentralrotary.org
SUMMARY:Lawrence Central Rotary Club's 20th Anniversary Celebration
DESCRIPTION:Join us for a night of enjoyment (and food!) with your fellow LCR members as we celebrate the 20th anniversary of the Greatest Rotary Club at the Watkins Museum community room. More info. to be shared soon!
URL:https://lawrencecentralrotary.org/calendar/lawrence-central-rotary-clubs-20th-anniversary-celebration/
LOCATION:Watkins Museum\, 1047 Massachusetts St\, Lawrence\, KS\, 66044\, United States
CATEGORIES:Party
ATTACH;FMTTYPE=image/png:https://lawrencecentralrotary.org/wp-content/uploads/2023/01/Lawrence-Central-Updated-Logo-23-e1673886996645.png
END:VEVENT
BEGIN:VEVENT
DTSTART;TZID=America/Chicago:20230412T120000
DTEND;TZID=America/Chicago:20230412T130000
DTSTAMP:20260421T115034
CREATED:20230125T195316Z
LAST-MODIFIED:20230125T195316Z
UID:8132-1681300800-1681304400@lawrencecentralrotary.org
SUMMARY:Weekly Meeting; Spkr. Justine Burton
DESCRIPTION:Join us as Justine Burton\, Founder and CEO of StopGap\, Inc.\, talks about the work the organization does to support children aging out of the Kansas foster care system.
URL:https://lawrencecentralrotary.org/calendar/weekly-meeting-spkr-justine-burton/
LOCATION:Lawrence Country Club\, 400 Country Club Terrace\, Lawrence\, KS\, 66049\, United States
CATEGORIES:Weekly Meeting
ATTACH;FMTTYPE=image/webp:https://lawrencecentralrotary.org/wp-content/uploads/2023/01/stopgap.webp
END:VEVENT
BEGIN:VEVENT
DTSTART;TZID=America/Chicago:20230405T120000
DTEND;TZID=America/Chicago:20230405T130000
DTSTAMP:20260421T115034
CREATED:20230125T195031Z
LAST-MODIFIED:20230125T195031Z
UID:8129-1680696000-1680699600@lawrencecentralrotary.org
SUMMARY:Monthly Business Meeting
DESCRIPTION:
URL:https://lawrencecentralrotary.org/calendar/monthly-business-meeting-3/
LOCATION:Lawrence Country Club\, 400 Country Club Terrace\, Lawrence\, KS\, 66049\, United States
CATEGORIES:Business Meeting
ATTACH;FMTTYPE=image/png:https://lawrencecentralrotary.org/wp-content/uploads/2023/01/Rotary-Intl-new-wheel.png
END:VEVENT
BEGIN:VEVENT
DTSTART;TZID=America/Chicago:20230329T120000
DTEND;TZID=America/Chicago:20230329T130000
DTSTAMP:20260421T115034
CREATED:20230125T194733Z
LAST-MODIFIED:20230125T200119Z
UID:8127-1680091200-1680094800@lawrencecentralrotary.org
SUMMARY:Weekly Meeting; Spkr. Saralyn Reece Hardy
DESCRIPTION:Saralyn\, Director of the Spencer Art Museum\, will share what’s been happening at the Spencer and its plans for the future.
URL:https://lawrencecentralrotary.org/calendar/weekly-meeting-spkr-saralyn-reece-hardy/
LOCATION:Lawrence Country Club\, 400 Country Club Terrace\, Lawrence\, KS\, 66049\, United States
CATEGORIES:Weekly Meeting
ATTACH;FMTTYPE=image/png:https://lawrencecentralrotary.org/wp-content/uploads/2023/01/SPENCERMUSEUMKU.png
END:VEVENT
BEGIN:VEVENT
DTSTART;TZID=America/Chicago:20230322T120000
DTEND;TZID=America/Chicago:20230322T130000
DTSTAMP:20260421T115034
CREATED:20230123T215946Z
LAST-MODIFIED:20230125T200250Z
UID:8125-1679486400-1679490000@lawrencecentralrotary.org
SUMMARY:Weekly Meeting; Spkr. Stephen Hill
DESCRIPTION:Wednesday’s speaker will be Stephen Hill\, grandson of J.D. Bowersock\, the founder of the Bowersock Mills & Power Company who was CEO for more than 30 years. He will share its history from its founding in 1874\, and the impact it has had on Lawrence’s history.
URL:https://lawrencecentralrotary.org/calendar/weekly-meeting-spkr-stephen-hill/
LOCATION:Lawrence Country Club\, 400 Country Club Terrace\, Lawrence\, KS\, 66049\, United States
CATEGORIES:Weekly Meeting
ATTACH;FMTTYPE=image/png:https://lawrencecentralrotary.org/wp-content/uploads/2023/01/bowersock_logo.png
END:VEVENT
BEGIN:VEVENT
DTSTART;TZID=America/Chicago:20230315T120000
DTEND;TZID=America/Chicago:20230315T130000
DTSTAMP:20260421T115034
CREATED:20230123T215732Z
LAST-MODIFIED:20230125T200353Z
UID:8120-1678881600-1678885200@lawrencecentralrotary.org
SUMMARY:Weekly Meeting; Spkr. Brad Finkeldei
DESCRIPTION:Join us as Brad Finkeldei\, Lawrence City Commissioner\, gives an update on the happenings at City Hall.
URL:https://lawrencecentralrotary.org/calendar/weekly-meeting-spkr-brad-finkeldei/
LOCATION:Lawrence Country Club\, 400 Country Club Terrace\, Lawrence\, KS\, 66049\, United States
CATEGORIES:Weekly Meeting
ATTACH;FMTTYPE=image/png:https://lawrencecentralrotary.org/wp-content/uploads/2023/01/lks-logo.png
END:VEVENT
BEGIN:VEVENT
DTSTART;TZID=America/Chicago:20230308T120000
DTEND;TZID=America/Chicago:20230308T130000
DTSTAMP:20260421T115034
CREATED:20230123T215808Z
LAST-MODIFIED:20230123T215823Z
UID:8123-1678276800-1678280400@lawrencecentralrotary.org
SUMMARY:Monthly Business Meeting
DESCRIPTION:
URL:https://lawrencecentralrotary.org/calendar/monthly-business-meeting-2/
LOCATION:Lawrence Country Club\, 400 Country Club Terrace\, Lawrence\, KS\, 66049\, United States
CATEGORIES:Business Meeting
END:VEVENT
BEGIN:VEVENT
DTSTART;TZID=America/Chicago:20230301T120000
DTEND;TZID=America/Chicago:20230301T130000
DTSTAMP:20260421T115034
CREATED:20230123T215622Z
LAST-MODIFIED:20230125T200419Z
UID:8118-1677672000-1677675600@lawrencecentralrotary.org
SUMMARY:Weekly Meeting; Spkr. Melissa Sieben
DESCRIPTION:Melissa will fill us in on current and upcoming Capital Projects undertaken in the City of Lawrence.
URL:https://lawrencecentralrotary.org/calendar/weekly-meeting-spkr-melissa-sieben/
LOCATION:Lawrence Country Club\, 400 Country Club Terrace\, Lawrence\, KS\, 66049\, United States
CATEGORIES:Weekly Meeting
ATTACH;FMTTYPE=image/png:https://lawrencecentralrotary.org/wp-content/uploads/2023/01/lks-logo.png
END:VEVENT
BEGIN:VEVENT
DTSTART;TZID=America/Chicago:20230222T120000
DTEND;TZID=America/Chicago:20230222T130000
DTSTAMP:20260421T115034
CREATED:20230123T215516Z
LAST-MODIFIED:20230125T200623Z
UID:8116-1677067200-1677070800@lawrencecentralrotary.org
SUMMARY:Weekly Meeting; Spkr. Daniel Palen
DESCRIPTION:Join LCR member Daniel Palen of the Lawrence\, Kansas Police Department as he provides an insight into the work he does for the Department and community.
URL:https://lawrencecentralrotary.org/calendar/weekly-meeting-spkr-daniel-palen/
LOCATION:KS
CATEGORIES:Weekly Meeting
ATTACH;FMTTYPE=image/gif:https://lawrencecentralrotary.org/wp-content/uploads/2023/01/LPD-Patch.gif
END:VEVENT
END:VCALENDAR