BEGIN:VCALENDAR
VERSION:2.0
PRODID:-//Lawrence Central Rotary - ECPv6.15.20//NONSGML v1.0//EN
CALSCALE:GREGORIAN
METHOD:PUBLISH
X-ORIGINAL-URL:https://lawrencecentralrotary.org
X-WR-CALDESC:Events for Lawrence Central Rotary
REFRESH-INTERVAL;VALUE=DURATION:PT1H
X-Robots-Tag:noindex
X-PUBLISHED-TTL:PT1H
BEGIN:VTIMEZONE
TZID:America/Chicago
BEGIN:DAYLIGHT
TZOFFSETFROM:-0600
TZOFFSETTO:-0500
TZNAME:CDT
DTSTART:20220313T080000
END:DAYLIGHT
BEGIN:STANDARD
TZOFFSETFROM:-0500
TZOFFSETTO:-0600
TZNAME:CST
DTSTART:20221106T070000
END:STANDARD
BEGIN:DAYLIGHT
TZOFFSETFROM:-0600
TZOFFSETTO:-0500
TZNAME:CDT
DTSTART:20230312T080000
END:DAYLIGHT
BEGIN:STANDARD
TZOFFSETFROM:-0500
TZOFFSETTO:-0600
TZNAME:CST
DTSTART:20231105T070000
END:STANDARD
BEGIN:DAYLIGHT
TZOFFSETFROM:-0600
TZOFFSETTO:-0500
TZNAME:CDT
DTSTART:20240310T080000
END:DAYLIGHT
BEGIN:STANDARD
TZOFFSETFROM:-0500
TZOFFSETTO:-0600
TZNAME:CST
DTSTART:20241103T070000
END:STANDARD
BEGIN:DAYLIGHT
TZOFFSETFROM:-0600
TZOFFSETTO:-0500
TZNAME:CDT
DTSTART:20250309T080000
END:DAYLIGHT
BEGIN:STANDARD
TZOFFSETFROM:-0500
TZOFFSETTO:-0600
TZNAME:CST
DTSTART:20251102T070000
END:STANDARD
END:VTIMEZONE
BEGIN:VEVENT
DTSTART;TZID=America/Chicago:20230830T120000
DTEND;TZID=America/Chicago:20230830T130000
DTSTAMP:20260423T034448
CREATED:20230801T064250Z
LAST-MODIFIED:20230801T064250Z
UID:8648-1693396800-1693400400@lawrencecentralrotary.org
SUMMARY:Weekly Speaker; Jeanne Klein\, KU Associate Professor Emerita
DESCRIPTION:Jeanne will share a history of Lawrence’s Oak Hill Cemetery\, including her work on the “Untold Stories” project to identify African Americans buried there.  \n 
URL:https://lawrencecentralrotary.org/calendar/weekly-speaker-jeanne-klein-ku-associate-professor-emerita/
LOCATION:Lawrence Country Club\, 400 Country Club Terrace\, Lawrence\, KS\, 66049\, United States
CATEGORIES:Weekly Meeting
END:VEVENT
BEGIN:VEVENT
DTSTART;TZID=America/Chicago:20230913T120000
DTEND;TZID=America/Chicago:20230913T130000
DTSTAMP:20260423T034448
CREATED:20230906T211531Z
LAST-MODIFIED:20230907T092609Z
UID:8704-1694606400-1694610000@lawrencecentralrotary.org
SUMMARY:Weekly Speaker; Isaac Nary
DESCRIPTION:Join us as Isaac Nary\, Vice President of International Development\, discusses his important work for the Outreach Program. The organization is “an international non-profit with a mission to provide a future for the world’s most vulnerable children through safe water\, food\, medical care and education. His area of expertise is in the creation and installation of solar-powered water purification systems and frequently travels to Tanzania\, East Africa where Outreach has been creating social impact through those four areas since 2004.” \nIsaac is also an Assistant Governor for District 5680\, Past President of the El Dorado\, Kansas Rotary Club and was honored with ‘Rotarian of the Year’ for 2021-2022.
URL:https://lawrencecentralrotary.org/calendar/weekly-meeting-isaac-nary/
LOCATION:Lawrence Country Club\, 400 Country Club Terrace\, Lawrence\, KS\, 66049\, United States
CATEGORIES:Weekly Meeting
ATTACH;FMTTYPE=image/jpeg:https://lawrencecentralrotary.org/wp-content/uploads/2023/09/1539023733922.jpg
END:VEVENT
BEGIN:VEVENT
DTSTART;TZID=America/Chicago:20230920T120000
DTEND;TZID=America/Chicago:20230920T130000
DTSTAMP:20260423T034448
CREATED:20230906T211818Z
LAST-MODIFIED:20230906T211818Z
UID:8707-1695211200-1695214800@lawrencecentralrotary.org
SUMMARY:Weekly Speaker; Lucinda Adams
DESCRIPTION:Lucinda Adams’\, Executive Director of Freedom’s Frontier\, will provide an overview of her work to preserve stories from the Kansas and Missouri area from years past. “Adams has over 20 years of experience in the field of history and historical preservation. She joins Freedom’s Frontier NHA from the State Historical Society of Missouri where she was Associate Director since 2014. There\, Adams led a multiyear strategic plan\, managed a 16\,000 cubic foot archival collection\, and successfully completed a multi-million-dollar capital campaign.” \n  \n 
URL:https://lawrencecentralrotary.org/calendar/weekly-speaker-lucinda-adams/
LOCATION:Lawrence Country Club\, 400 Country Club Terrace\, Lawrence\, KS\, 66049\, United States
CATEGORIES:Weekly Meeting
ATTACH;FMTTYPE=image/jpeg:https://lawrencecentralrotary.org/wp-content/uploads/2023/09/l_adams_crop-1536x1152-1.jpg
END:VEVENT
BEGIN:VEVENT
DTSTART;TZID=America/Chicago:20230927T120000
DTEND;TZID=America/Chicago:20230927T130000
DTSTAMP:20260423T034448
CREATED:20230907T094415Z
LAST-MODIFIED:20230907T094415Z
UID:8712-1695816000-1695819600@lawrencecentralrotary.org
SUMMARY:Weekly Speaker; Scott Sewell and Andrew Holt
DESCRIPTION:This week we’ll be honored to have Scott Sewell\, Director of Kansas Main Street at the Kansas Dept. of Commerce and Andrew Holt\, the new Executive Director of Downtown Lawrence\, Inc. (DLI) presenting to us. \nScott and his co-workers at Kansas Main Street offer programs which provide resources for revitalizing and preserving downtown areas. Andrew became the Executive Director in May\, 2023\, taking over for longtime DLI Executive Director Sally Zogry.
URL:https://lawrencecentralrotary.org/calendar/weekly-speaker-scott-sewell-and-andrew-holt/
LOCATION:Lawrence Country Club\, 400 Country Club Terrace\, Lawrence\, KS\, 66049\, United States
CATEGORIES:Weekly Meeting
END:VEVENT
BEGIN:VEVENT
DTSTART;TZID=America/Chicago:20231004T120000
DTEND;TZID=America/Chicago:20231004T130000
DTSTAMP:20260423T034448
CREATED:20230928T193105Z
LAST-MODIFIED:20230928T193105Z
UID:8715-1696420800-1696424400@lawrencecentralrotary.org
SUMMARY:First Wednesday; Kate Campbell
DESCRIPTION:LCR Member Kate Campbell will present to us. Check back soon for more details!
URL:https://lawrencecentralrotary.org/calendar/first-wednesday-kate-campbell/
LOCATION:Lawrence Country Club\, 400 Country Club Terrace\, Lawrence\, KS\, 66049\, United States
CATEGORIES:Weekly Meeting
END:VEVENT
BEGIN:VEVENT
DTSTART;TZID=America/Chicago:20231011T170000
DTEND;TZID=America/Chicago:20231011T190000
DTSTAMP:20260423T034448
CREATED:20230907T094835Z
LAST-MODIFIED:20230927T180108Z
UID:8717-1697043600-1697050800@lawrencecentralrotary.org
SUMMARY:Maceli’s Night Project
DESCRIPTION:In lieu of our normal Wednesday meeting\, we’ll instead meet at Maceli’s to distribute all of the snacks collected through our drive. Hors d’oeuvres and drinks are included!
URL:https://lawrencecentralrotary.org/calendar/arterra-night-project/
LOCATION:Maceli’s\, 1031 New Hampshire St.\, Lawrence\, 66044\, United States
CATEGORIES:Weekly Meeting
END:VEVENT
BEGIN:VEVENT
DTSTART;TZID=America/Chicago:20231018T120000
DTEND;TZID=America/Chicago:20231018T130000
DTSTAMP:20260423T034448
CREATED:20231009T222455Z
LAST-MODIFIED:20231009T222455Z
UID:8804-1697630400-1697634000@lawrencecentralrotary.org
SUMMARY:Weekly Speaker; Patti Mellard
DESCRIPTION:Patti Mellard\, the founder and CEO of Key Staffing and Premier Employment Solutions\, will join us for a discussion. Patti has served on boards with organizations to include the Topeka Chamber of Commerce\, United Way of Topeka and more. \n  \n 
URL:https://lawrencecentralrotary.org/calendar/weekly-speaker-patti-mellard/
LOCATION:Lawrence Country Club\, 400 Country Club Terrace\, Lawrence\, KS\, 66049\, United States
CATEGORIES:Weekly Meeting
ATTACH;FMTTYPE=image/jpeg:https://lawrencecentralrotary.org/wp-content/uploads/2023/10/Mellard-head-shot-768x615-1.jpg
END:VEVENT
BEGIN:VEVENT
DTSTART;TZID=America/Chicago:20231025T120000
DTEND;TZID=America/Chicago:20231025T130000
DTSTAMP:20260423T034448
CREATED:20231009T222643Z
LAST-MODIFIED:20231010T183316Z
UID:8807-1698235200-1698238800@lawrencecentralrotary.org
SUMMARY:Weekly Speaker; Araceli Masterson
DESCRIPTION:Araceli Masterson\, as Associate Professor in the University of Kansas’ Department of American Studies\, will join us today to discuss LaYarda\, the Sante Fe housing complex for railroad workers.
URL:https://lawrencecentralrotary.org/calendar/weekly-speaker-layarda/
LOCATION:Lawrence Country Club\, 400 Country Club Terrace\, Lawrence\, KS\, 66049\, United States
CATEGORIES:Weekly Meeting
ATTACH;FMTTYPE=image/jpeg:https://lawrencecentralrotary.org/wp-content/uploads/2023/10/thumbnail_foto_CV2.jpg
END:VEVENT
BEGIN:VEVENT
DTSTART;TZID=America/Chicago:20231101T120000
DTEND;TZID=America/Chicago:20231101T130000
DTSTAMP:20260423T034448
CREATED:20231009T222811Z
LAST-MODIFIED:20231009T222811Z
UID:8810-1698840000-1698843600@lawrencecentralrotary.org
SUMMARY:First Wednesday
DESCRIPTION:Steve Lane and Jim Evers will present an update on the Lawrence Kids Calendar.
URL:https://lawrencecentralrotary.org/calendar/first-wednesday/
LOCATION:Lawrence Country Club\, 400 Country Club Terrace\, Lawrence\, KS\, 66049\, United States
CATEGORIES:Weekly Meeting
ATTACH;FMTTYPE=image/png:https://lawrencecentralrotary.org/wp-content/uploads/2023/01/LKC2023.png
END:VEVENT
BEGIN:VEVENT
DTSTART;TZID=America/Chicago:20231108T120000
DTEND;TZID=America/Chicago:20231108T130000
DTSTAMP:20260423T034448
CREATED:20230928T193535Z
LAST-MODIFIED:20230928T193535Z
UID:8778-1699444800-1699448400@lawrencecentralrotary.org
SUMMARY:Weekly Speaker; Dr. Frank Arpan
DESCRIPTION:Dr. Frank Arpan\, the newest President of Haskell Indian Nations University\, will be joining us this week. Dr. Arpan is a member of the Yankton Sioux Tribe and joined Haskell University in May\, 2022. Dr. Arpan previously held a position as the Dean of Academics at Sisseton Wahpeton College in South Dakota.
URL:https://lawrencecentralrotary.org/calendar/weekly-speaker-dr-frank-arpan/
LOCATION:Lawrence Country Club\, 400 Country Club Terrace\, Lawrence\, KS\, 66049\, United States
CATEGORIES:Weekly Meeting
ATTACH;FMTTYPE=image/jpeg:https://lawrencecentralrotary.org/wp-content/uploads/2023/09/headshot2_compressed.jpg
END:VEVENT
BEGIN:VEVENT
DTSTART;TZID=America/Chicago:20231115T120000
DTEND;TZID=America/Chicago:20231115T130000
DTSTAMP:20260423T034448
CREATED:20231018T184522Z
LAST-MODIFIED:20231018T184522Z
UID:8824-1700049600-1700053200@lawrencecentralrotary.org
SUMMARY:Weekly Speaker; Ryan Gurlinger
DESCRIPTION:We’re honored to be joined by Ryan Guirlinger\, Ukraine Political Unit Chief with the Office of Eastern European Affairs (EUR/EE) at the U.S. Department of State\, for today’s meeting. Ryan speaks four languages (Arabic\, French\, Spanish and Turkish)\, holds a Master’s Degree from Syracuse University and has served the Foreign Service since September\, 2008.
URL:https://lawrencecentralrotary.org/calendar/weekly-speaker-ryan-gurlinger/
LOCATION:Lawrence Country Club\, 400 Country Club Terrace\, Lawrence\, KS\, 66049\, United States
END:VEVENT
BEGIN:VEVENT
DTSTART;TZID=America/Chicago:20231122T080000
DTEND;TZID=America/Chicago:20231122T170000
DTSTAMP:20260423T034448
CREATED:20230928T194015Z
LAST-MODIFIED:20230928T194015Z
UID:8784-1700640000-1700672400@lawrencecentralrotary.org
SUMMARY:No Meeting
DESCRIPTION:Have a Happy Thanksgiving!
URL:https://lawrencecentralrotary.org/calendar/no-meeting/
LOCATION:KS
END:VEVENT
BEGIN:VEVENT
DTSTART;TZID=America/Chicago:20231129T120000
DTEND;TZID=America/Chicago:20231129T130000
DTSTAMP:20260423T034448
CREATED:20231009T223226Z
LAST-MODIFIED:20231009T223226Z
UID:8812-1701259200-1701262800@lawrencecentralrotary.org
SUMMARY:Weekly Speaker; Maddie Lockett
DESCRIPTION:Maddie Lockett\, the Lawrence Humane Society’s social worker\, will give an overview on an extremely important part of the Lawrence and Douglas County community. You won’t want to miss the talk\, fur-real…!
URL:https://lawrencecentralrotary.org/calendar/weekly-speaker-maddie-lockett/
LOCATION:Lawrence Country Club\, 400 Country Club Terrace\, Lawrence\, KS\, 66049\, United States
CATEGORIES:Weekly Meeting
ATTACH;FMTTYPE=image/jpeg:https://lawrencecentralrotary.org/wp-content/uploads/2023/10/Maddie-2.jpg
END:VEVENT
BEGIN:VEVENT
DTSTART;TZID=America/Chicago:20231206T120000
DTEND;TZID=America/Chicago:20231206T130000
DTSTAMP:20260423T034448
CREATED:20231009T223339Z
LAST-MODIFIED:20231009T223339Z
UID:8815-1701864000-1701867600@lawrencecentralrotary.org
SUMMARY:Holiday Party
DESCRIPTION:As hard as it is to believe\, it’s time for another holiday party! More information about the event and dining will be shared soon.
URL:https://lawrencecentralrotary.org/calendar/holiday-party/
LOCATION:Lawrence Country Club\, 400 Country Club Terrace\, Lawrence\, KS\, 66049\, United States
CATEGORIES:Party
ATTACH;FMTTYPE=image/png:https://lawrencecentralrotary.org/wp-content/uploads/2023/01/Rotary-Intl-new-wheel.png
END:VEVENT
BEGIN:VEVENT
DTSTART;TZID=America/Chicago:20231213T120000
DTEND;TZID=America/Chicago:20231213T130000
DTSTAMP:20260423T034448
CREATED:20230908T231927Z
LAST-MODIFIED:20230908T231927Z
UID:8721-1702468800-1702472400@lawrencecentralrotary.org
SUMMARY:Weekly Speaker; Jack Altman
DESCRIPTION:Jack Altman will join us and share information about Retirement Bootcamp hosted by the Lawrence Public Library. Their program provides resources to help with the transition to retirement and answers to questions (and help with anxiety!) soon to be retirees may be facing. Events include tours of the Lawrence Regional Airport\, visits to The Nerman Museum of Art in Johnson County\, cocktail hours and more! For more information\, please click here.
URL:https://lawrencecentralrotary.org/calendar/weekly-speaker-jack-altman/
LOCATION:Lawrence Country Club\, 400 Country Club Terrace\, Lawrence\, KS\, 66049\, United States
CATEGORIES:Weekly Meeting
ATTACH;FMTTYPE=image/png:https://lawrencecentralrotary.org/wp-content/uploads/2023/09/2021-Retirement-Boot-Camp-logo-Cap-Fed-green-on-clear-background-300x253-1.png
END:VEVENT
BEGIN:VEVENT
DTSTART;TZID=America/Chicago:20231220T120000
DTEND;TZID=America/Chicago:20231220T130000
DTSTAMP:20260423T034448
CREATED:20230928T194411Z
LAST-MODIFIED:20230928T194411Z
UID:8786-1703073600-1703077200@lawrencecentralrotary.org
SUMMARY:Weekly Speaker; Christy Miller
DESCRIPTION:Christy Miller joins us this week to share information on the Americana Music Academy where she serves as Executive Director. The Academy was founded in 2001 by Thom Alexander to allow for individuals interested in music to gather. Dr. Miller also holds a doctorate degree in Musicology from the University of Kansas.
URL:https://lawrencecentralrotary.org/calendar/weekly-speaker-christy-miller/
LOCATION:Lawrence Country Club\, 400 Country Club Terrace\, Lawrence\, KS\, 66049\, United States
CATEGORIES:Weekly Meeting
ATTACH;FMTTYPE=image/jpeg:https://lawrencecentralrotary.org/wp-content/uploads/2023/09/Christy-Miller-headshot.jpg
END:VEVENT
BEGIN:VEVENT
DTSTART;VALUE=DATE:20231227
DTEND;VALUE=DATE:20231228
DTSTAMP:20260423T034448
CREATED:20230908T232507Z
LAST-MODIFIED:20230908T232507Z
UID:8724-1703635200-1703721599@lawrencecentralrotary.org
SUMMARY:No Meeting - Happy Holidays!
DESCRIPTION:We’ll see you in 2024!
URL:https://lawrencecentralrotary.org/calendar/no-meeting-happy-holidays/
LOCATION:KS
END:VEVENT
BEGIN:VEVENT
DTSTART;TZID=America/Chicago:20240103T120000
DTEND;TZID=America/Chicago:20240103T130000
DTSTAMP:20260423T034448
CREATED:20231027T032250Z
LAST-MODIFIED:20231027T032250Z
UID:8848-1704283200-1704286800@lawrencecentralrotary.org
SUMMARY:No Meeting - LCC Closed
DESCRIPTION:As we start out 2024\, the Lawrence Country Club will be closed on January 3rd. We’ll have our first meeting of 2024 on January 10th!
URL:https://lawrencecentralrotary.org/calendar/no-meeting-lcc-closed/
LOCATION:KS
END:VEVENT
BEGIN:VEVENT
DTSTART;TZID=America/Chicago:20240110T120000
DTEND;TZID=America/Chicago:20240110T130000
DTSTAMP:20260423T034448
CREATED:20230801T064422Z
LAST-MODIFIED:20231027T033933Z
UID:8650-1704888000-1704891600@lawrencecentralrotary.org
SUMMARY:Weekly Speaker; Melissa Sieben\, LCR Member
DESCRIPTION:Melissa will share memories of her time in Germany and the many Rotary connections she has made while there!
URL:https://lawrencecentralrotary.org/calendar/weekly-meeting-melissa-sieben-lcr-member/
LOCATION:Lawrence Country Club\, 400 Country Club Terrace\, Lawrence\, KS\, 66049\, United States
CATEGORIES:Weekly Meeting
ATTACH;FMTTYPE=image/svg+xml:https://lawrencecentralrotary.org/wp-content/uploads/2023/01/Lawrence-Central-Updated-Logo.svg
END:VEVENT
BEGIN:VEVENT
DTSTART;TZID=America/Chicago:20240117T120000
DTEND;TZID=America/Chicago:20240117T130000
DTSTAMP:20260423T034448
CREATED:20231027T033327Z
LAST-MODIFIED:20231027T033327Z
UID:8850-1705492800-1705496400@lawrencecentralrotary.org
SUMMARY:Weekly Meeting; Darcy Boyle
DESCRIPTION:Join us as Darcy Boyle\, the media and communications director at Prosoco\, presents about her work. Prosoco was founded in 1939 and develops a variety of products for the construction industry which include stains for concrete floors\, moisture resistive barriers for buildings and more.
URL:https://lawrencecentralrotary.org/calendar/weekly-meeting-darcy-boyle/
LOCATION:Lawrence Country Club\, 400 Country Club Terrace\, Lawrence\, KS\, 66049\, United States
CATEGORIES:Weekly Meeting
ATTACH;FMTTYPE=image/png:https://lawrencecentralrotary.org/wp-content/uploads/2023/10/Darcy-Boyle-PROSOCO-small.png
END:VEVENT
BEGIN:VEVENT
DTSTART;TZID=America/Chicago:20240124T120000
DTEND;TZID=America/Chicago:20240124T130000
DTSTAMP:20260423T034448
CREATED:20231031T023541Z
LAST-MODIFIED:20231031T023541Z
UID:8855-1706097600-1706101200@lawrencecentralrotary.org
SUMMARY:Weekly Meeting; Beth McKenzie
DESCRIPTION:Beth McKenzie\, the Development Director for the Audio-Reader Network\, will share information about her important career. Beth has been with Audio-Reader since 2016 and has experience with grant writing\, fundraising and more.
URL:https://lawrencecentralrotary.org/calendar/weekly-meeting-beth-mckenzie/
LOCATION:Lawrence Country Club\, 400 Country Club Terrace\, Lawrence\, KS\, 66049\, United States
CATEGORIES:Weekly Meeting
ATTACH;FMTTYPE=image/png:https://lawrencecentralrotary.org/wp-content/uploads/2023/10/Beth-McKenzie-1_0.png
END:VEVENT
BEGIN:VEVENT
DTSTART;TZID=America/Chicago:20240131T120000
DTEND;TZID=America/Chicago:20240131T130000
DTSTAMP:20260423T034448
CREATED:20231031T023900Z
LAST-MODIFIED:20231031T023900Z
UID:8858-1706702400-1706706000@lawrencecentralrotary.org
SUMMARY:Weekly Meeting; Shania Lopez-Cabrera
DESCRIPTION:A dedicated Rotarian and lifetime Kansas\, Shania Lopez-Cabrera will join us to share information about Mental Health First Aid for Rotarians. Shania is a member of the Jayhawk Breakfast Rotary Club.
URL:https://lawrencecentralrotary.org/calendar/weekly-meeting-shania-lopez-cabrera/
LOCATION:Lawrence Country Club\, 400 Country Club Terrace\, Lawrence\, KS\, 66049\, United States
CATEGORIES:Weekly Meeting
ATTACH;FMTTYPE=image/jpeg:https://lawrencecentralrotary.org/wp-content/uploads/2023/10/1692542197962.jpg
END:VEVENT
BEGIN:VEVENT
DTSTART;TZID=America/Chicago:20240207T120000
DTEND;TZID=America/Chicago:20240207T130000
DTSTAMP:20260423T034448
CREATED:20231031T024118Z
LAST-MODIFIED:20231031T024159Z
UID:8862-1707307200-1707310800@lawrencecentralrotary.org
SUMMARY:First Wednesday; Bob Swan
DESCRIPTION:Fellow LCR member Bob Swan will present to us this week! Stay tuned for more information!
URL:https://lawrencecentralrotary.org/calendar/first-wednesday-bob-swan/
LOCATION:Lawrence Country Club\, 400 Country Club Terrace\, Lawrence\, KS\, 66049\, United States
CATEGORIES:Weekly Meeting
END:VEVENT
BEGIN:VEVENT
DTSTART;TZID=America/Chicago:20240214T120000
DTEND;TZID=America/Chicago:20240214T130000
DTSTAMP:20260423T034448
CREATED:20231031T024517Z
LAST-MODIFIED:20231031T024517Z
UID:8864-1707912000-1707915600@lawrencecentralrotary.org
SUMMARY:Weekly Meeting; Julia Hardin & Heather Hoy
DESCRIPTION:Julia Hardin & Heather Hoy from Friends of KU Theater will be joining us this week.
URL:https://lawrencecentralrotary.org/calendar/weekly-meeting-julia-hardin-heather-hoy/
LOCATION:Lawrence Country Club\, 400 Country Club Terrace\, Lawrence\, KS\, 66049\, United States
CATEGORIES:Weekly Meeting
END:VEVENT
BEGIN:VEVENT
DTSTART;TZID=America/Chicago:20240221T120000
DTEND;TZID=America/Chicago:20240221T130000
DTSTAMP:20260423T034448
CREATED:20231031T024704Z
LAST-MODIFIED:20231031T024704Z
UID:8866-1708516800-1708520400@lawrencecentralrotary.org
SUMMARY:Weekly Meeting; TBD!
DESCRIPTION:We’ll be joined by a non-profit speaker this week. Stay tuned for details!
URL:https://lawrencecentralrotary.org/calendar/weekly-meeting-tbd/
LOCATION:Lawrence Country Club\, 400 Country Club Terrace\, Lawrence\, KS\, 66049\, United States
CATEGORIES:Weekly Meeting
END:VEVENT
BEGIN:VEVENT
DTSTART;TZID=America/Chicago:20240306T120000
DTEND;TZID=America/Chicago:20240306T130000
DTSTAMP:20260423T034448
CREATED:20231031T024757Z
LAST-MODIFIED:20231031T024757Z
UID:8868-1709726400-1709730000@lawrencecentralrotary.org
SUMMARY:First Wednesday
DESCRIPTION:Stay tuned for more details as we get closer!
URL:https://lawrencecentralrotary.org/calendar/first-wednesday-2/
LOCATION:Lawrence Country Club\, 400 Country Club Terrace\, Lawrence\, KS\, 66049\, United States
CATEGORIES:Weekly Meeting
END:VEVENT
BEGIN:VEVENT
DTSTART;TZID=America/Chicago:20240320T120000
DTEND;TZID=America/Chicago:20240320T130000
DTSTAMP:20260423T034448
CREATED:20230928T193917Z
LAST-MODIFIED:20231031T024840Z
UID:8781-1710936000-1710939600@lawrencecentralrotary.org
SUMMARY:Weekly Speaker; Andrew Holt
DESCRIPTION:The new Executive Director of Downtown Lawrence\, Inc.\, Andrew Holt\, will be joining us this week. Andrew became the Executive Director in May\, 2023\, taking over for longtime DLI Executive Director Sally Zogry.
URL:https://lawrencecentralrotary.org/calendar/weekly-speaker-andrew-holt/
LOCATION:Lawrence Country Club\, 400 Country Club Terrace\, Lawrence\, KS\, 66049\, United States
CATEGORIES:Weekly Meeting
ATTACH;FMTTYPE=image/jpeg:https://lawrencecentralrotary.org/wp-content/uploads/2023/09/1652129537851.jpg
END:VEVENT
BEGIN:VEVENT
DTSTART;TZID=America/Chicago:20240417T120000
DTEND;TZID=America/Chicago:20240417T130000
DTSTAMP:20260423T034448
CREATED:20240417T024142Z
LAST-MODIFIED:20240417T024142Z
UID:9084-1713355200-1713358800@lawrencecentralrotary.org
SUMMARY:Weekly Speaker; Matthew Briggs
DESCRIPTION:This week we’ll be joined by Matthew Briggs with Children’s Mercy Hospital in Kansas City\, Missouri.
URL:https://lawrencecentralrotary.org/calendar/weekly-speaker-matthew-briggs/
LOCATION:Lawrence Country Club\, 400 Country Club Terrace\, Lawrence\, KS\, 66049\, United States
CATEGORIES:Weekly Meeting
END:VEVENT
BEGIN:VEVENT
DTSTART;TZID=America/Chicago:20240424T120000
DTEND;TZID=America/Chicago:20240424T130000
DTSTAMP:20260423T034448
CREATED:20240417T024320Z
LAST-MODIFIED:20240417T024320Z
UID:9086-1713960000-1713963600@lawrencecentralrotary.org
SUMMARY:Weekly Speaker; Megan Poindexter
DESCRIPTION:Wednesday we’ll be joined by Megan Poindexter who is the Executive Director of the Douglas County Senior Resource Center.
URL:https://lawrencecentralrotary.org/calendar/weekly-speaker-megan-poindexter/
LOCATION:Lawrence Country Club\, 400 Country Club Terrace\, Lawrence\, KS\, 66049\, United States
CATEGORIES:Weekly Meeting
END:VEVENT
BEGIN:VEVENT
DTSTART;TZID=America/Chicago:20240501T120000
DTEND;TZID=America/Chicago:20240501T130000
DTSTAMP:20260423T034448
CREATED:20240417T024449Z
LAST-MODIFIED:20240417T024644Z
UID:9088-1714564800-1714568400@lawrencecentralrotary.org
SUMMARY:First Wednesday; Leticia Cole
DESCRIPTION:LCC’s own Leticia Cole will present to us about RYLA\, the Rotary Youth Leadership Awards which our club participates in!
URL:https://lawrencecentralrotary.org/calendar/first-wednesday-leticia-cole/
LOCATION:Lawrence Country Club\, 400 Country Club Terrace\, Lawrence\, KS\, 66049\, United States
CATEGORIES:First Wednesday
END:VEVENT
END:VCALENDAR