BEGIN:VCALENDAR
VERSION:2.0
PRODID:-//Lawrence Central Rotary - ECPv6.15.20//NONSGML v1.0//EN
CALSCALE:GREGORIAN
METHOD:PUBLISH
X-WR-CALNAME:Lawrence Central Rotary
X-ORIGINAL-URL:https://lawrencecentralrotary.org
X-WR-CALDESC:Events for Lawrence Central Rotary
REFRESH-INTERVAL;VALUE=DURATION:PT1H
X-Robots-Tag:noindex
X-PUBLISHED-TTL:PT1H
BEGIN:VTIMEZONE
TZID:America/Chicago
BEGIN:DAYLIGHT
TZOFFSETFROM:-0600
TZOFFSETTO:-0500
TZNAME:CDT
DTSTART:20230312T080000
END:DAYLIGHT
BEGIN:STANDARD
TZOFFSETFROM:-0500
TZOFFSETTO:-0600
TZNAME:CST
DTSTART:20231105T070000
END:STANDARD
BEGIN:DAYLIGHT
TZOFFSETFROM:-0600
TZOFFSETTO:-0500
TZNAME:CDT
DTSTART:20240310T080000
END:DAYLIGHT
BEGIN:STANDARD
TZOFFSETFROM:-0500
TZOFFSETTO:-0600
TZNAME:CST
DTSTART:20241103T070000
END:STANDARD
BEGIN:DAYLIGHT
TZOFFSETFROM:-0600
TZOFFSETTO:-0500
TZNAME:CDT
DTSTART:20250309T080000
END:DAYLIGHT
BEGIN:STANDARD
TZOFFSETFROM:-0500
TZOFFSETTO:-0600
TZNAME:CST
DTSTART:20251102T070000
END:STANDARD
BEGIN:DAYLIGHT
TZOFFSETFROM:-0600
TZOFFSETTO:-0500
TZNAME:CDT
DTSTART:20260308T080000
END:DAYLIGHT
BEGIN:STANDARD
TZOFFSETFROM:-0500
TZOFFSETTO:-0600
TZNAME:CST
DTSTART:20261101T070000
END:STANDARD
END:VTIMEZONE
BEGIN:VEVENT
DTSTART;TZID=America/Chicago:20240731T120000
DTEND;TZID=America/Chicago:20240731T130000
DTSTAMP:20260421T113634
CREATED:20240622T040307Z
LAST-MODIFIED:20240724T185440Z
UID:9212-1722427200-1722430800@lawrencecentralrotary.org
SUMMARY:Weekly Meeting
DESCRIPTION:TBD!
URL:https://lawrencecentralrotary.org/calendar/weekly-meeting-dawn-buehler/
LOCATION:Lawrence Country Club\, 400 Country Club Terrace\, Lawrence\, KS\, 66049\, United States
CATEGORIES:Weekly Meeting
END:VEVENT
BEGIN:VEVENT
DTSTART;TZID=America/Chicago:20240807T120000
DTEND;TZID=America/Chicago:20240807T130000
DTSTAMP:20260421T113634
CREATED:20240622T040852Z
LAST-MODIFIED:20240622T040852Z
UID:9214-1723032000-1723035600@lawrencecentralrotary.org
SUMMARY:First Wednesday Meeting
DESCRIPTION:
URL:https://lawrencecentralrotary.org/calendar/first-wednesday-meeting/
LOCATION:Lawrence Country Club\, 400 Country Club Terrace\, Lawrence\, KS\, 66049\, United States
CATEGORIES:First Wednesday
END:VEVENT
BEGIN:VEVENT
DTSTART;TZID=America/Chicago:20240814T120000
DTEND;TZID=America/Chicago:20240814T130000
DTSTAMP:20260421T113634
CREATED:20240622T041111Z
LAST-MODIFIED:20240622T041111Z
UID:9216-1723636800-1723640400@lawrencecentralrotary.org
SUMMARY:Weekly Meeting; Dennis Domer
DESCRIPTION:Dennis Domer\, a local author and retired Professor of architecture at the University of Kansas\, will present to us about his latest collaboration\, Embattled Lawrence\, a book covering the history of Lawrence! \nRead more in this articled pushed by the Lawrence Times.
URL:https://lawrencecentralrotary.org/calendar/weekly-meeting-dennis-domer/
LOCATION:Lawrence Country Club\, 400 Country Club Terrace\, Lawrence\, KS\, 66049\, United States
CATEGORIES:Weekly Meeting
END:VEVENT
BEGIN:VEVENT
DTSTART;TZID=America/Chicago:20240821T120000
DTEND;TZID=America/Chicago:20240821T130000
DTSTAMP:20260421T113634
CREATED:20240622T041403Z
LAST-MODIFIED:20240622T041403Z
UID:9218-1724241600-1724245200@lawrencecentralrotary.org
SUMMARY:Weekly Meeting; Rod Hofer
DESCRIPTION:Rod Hofer\, a retired environmental engineer\, will present about the Hutterites\, a group with roots dating back to the 16th century in Romania.
URL:https://lawrencecentralrotary.org/calendar/weekly-meeting-rod-hofer/
LOCATION:Lawrence Country Club\, 400 Country Club Terrace\, Lawrence\, KS\, 66049\, United States
CATEGORIES:Weekly Meeting
END:VEVENT
BEGIN:VEVENT
DTSTART;TZID=America/Chicago:20240828T120000
DTEND;TZID=America/Chicago:20240828T130000
DTSTAMP:20260421T113634
CREATED:20240622T041507Z
LAST-MODIFIED:20240622T041507Z
UID:9220-1724846400-1724850000@lawrencecentralrotary.org
SUMMARY:Weekly Meeting; Megan Poindexter
DESCRIPTION:Megan Poindexter with the Senior Resource Center for Douglas County will join us with a presentation about the services the organization offers throughout our community.
URL:https://lawrencecentralrotary.org/calendar/weekly-meeting-megan-poindexter/
LOCATION:Lawrence Country Club\, 400 Country Club Terrace\, Lawrence\, KS\, 66049\, United States
CATEGORIES:Weekly Meeting
END:VEVENT
BEGIN:VEVENT
DTSTART;TZID=America/Chicago:20240904T120000
DTEND;TZID=America/Chicago:20240904T130000
DTSTAMP:20260421T113634
CREATED:20240622T041533Z
LAST-MODIFIED:20240622T041533Z
UID:9222-1725451200-1725454800@lawrencecentralrotary.org
SUMMARY:First Wednesday Meeting
DESCRIPTION:
URL:https://lawrencecentralrotary.org/calendar/first-wednesday-meeting-2/
LOCATION:Lawrence Country Club\, 400 Country Club Terrace\, Lawrence\, KS\, 66049\, United States
CATEGORIES:First Wednesday
END:VEVENT
BEGIN:VEVENT
DTSTART;TZID=America/Chicago:20240911T120000
DTEND;TZID=America/Chicago:20240911T130000
DTSTAMP:20260421T113634
CREATED:20240622T041645Z
LAST-MODIFIED:20240622T041645Z
UID:9225-1726056000-1726059600@lawrencecentralrotary.org
SUMMARY:Weekly Meeting; Audrey Coleman
DESCRIPTION:LCR member Audrey Coleman will reflect on September 11th\, 2001 and the twenty-third anniversary of a day which forever changed our way of life.
URL:https://lawrencecentralrotary.org/calendar/weekly-meeting-audrey-coleman/
LOCATION:Lawrence Country Club\, 400 Country Club Terrace\, Lawrence\, KS\, 66049\, United States
CATEGORIES:Weekly Meeting
END:VEVENT
BEGIN:VEVENT
DTSTART;TZID=America/Chicago:20240918T120000
DTEND;TZID=America/Chicago:20240918T130000
DTSTAMP:20260421T113634
CREATED:20240913T211329Z
LAST-MODIFIED:20240913T211329Z
UID:9405-1726660800-1726664400@lawrencecentralrotary.org
SUMMARY:Weekly Speaker; Brad Harrell
DESCRIPTION:Join us for a conversation with Brad Harrell\, Parking Manager for the City of Lawrence\, as he discusses the new parking amnesty program\, among others.
URL:https://lawrencecentralrotary.org/calendar/weekly-speaker-brad-harrell/
LOCATION:Lawrence Country Club\, 400 Country Club Terrace\, Lawrence\, KS\, 66049\, United States
CATEGORIES:Weekly Meeting
END:VEVENT
BEGIN:VEVENT
DTSTART;TZID=America/Chicago:20240919T173000
DTEND;TZID=America/Chicago:20240919T193000
DTSTAMP:20260421T113634
CREATED:20240919T041252Z
LAST-MODIFIED:20240919T041252Z
UID:9436-1726767000-1726774200@lawrencecentralrotary.org
SUMMARY:LCR Thursday Thursday
DESCRIPTION:Join fellow LCR Members at Mr. Brews Taphouse (811 New Hampshire St). for fellowship and beverages!
URL:https://lawrencecentralrotary.org/calendar/lcr-thursday-thursday/
LOCATION:Mr. Brew’s Taphouse\, 811 New Hampshire St\, Lawrence\, KS\, 66044\, United States
CATEGORIES:LCR Event
END:VEVENT
BEGIN:VEVENT
DTSTART;TZID=America/Chicago:20240925T120000
DTEND;TZID=America/Chicago:20240925T130000
DTSTAMP:20260421T113634
CREATED:20240913T211501Z
LAST-MODIFIED:20240919T040904Z
UID:9407-1727265600-1727269200@lawrencecentralrotary.org
SUMMARY:LCR Weekly Speaker;Tamara Jo Adams Sevcik
DESCRIPTION:Tamara Jo Adams Sevcik\, the new Governor for Rotary District 5710\, will join us!
URL:https://lawrencecentralrotary.org/calendar/weekly-speaker-tamara-jo-adams-sevcik/
LOCATION:Lawrence Country Club\, 400 Country Club Terrace\, Lawrence\, KS\, 66049\, United States
CATEGORIES:Weekly Meeting
END:VEVENT
BEGIN:VEVENT
DTSTART;TZID=America/Chicago:20241002T120000
DTEND;TZID=America/Chicago:20241002T130000
DTSTAMP:20260421T113634
CREATED:20240919T033419Z
LAST-MODIFIED:20240919T040857Z
UID:9419-1727870400-1727874000@lawrencecentralrotary.org
SUMMARY:LCR Weekly Speaker; Sgt. Mike Cobb
DESCRIPTION:Sgt. Mike Cobb with the Lawrence Police Department will provide an overview of the Dept’s curriculum regarding CRASE – Civilian Response to Active Shooter Events.
URL:https://lawrencecentralrotary.org/calendar/weekly-speaker-sgt-mike-cobb/
LOCATION:Lawrence Country Club\, 400 Country Club Terrace\, Lawrence\, KS\, 66049\, United States
CATEGORIES:Weekly Meeting
ATTACH;FMTTYPE=image/gif:https://lawrencecentralrotary.org/wp-content/uploads/2023/01/LPD-Patch.gif
END:VEVENT
BEGIN:VEVENT
DTSTART;TZID=America/Chicago:20241002T173000
DTEND;TZID=America/Chicago:20241002T193000
DTSTAMP:20260421T113634
CREATED:20241001T133602Z
LAST-MODIFIED:20241001T133602Z
UID:9447-1727890200-1727897400@lawrencecentralrotary.org
SUMMARY:Lawrence Schools Snack Packing
DESCRIPTION:Help us to pack snacks for the Lawrence Schools Foundation! Snacks to be provided and we’ll be joined by members of the Lawrence Rotary Club and Jayhawk Breakfast Rotary Club.
URL:https://lawrencecentralrotary.org/calendar/lawrence-schools-snack-packing/
LOCATION:Maceli’s\, 1031 New Hampshire St.\, Lawrence\, 66044\, United States
CATEGORIES:LCR Event
END:VEVENT
BEGIN:VEVENT
DTSTART;TZID=America/Chicago:20241009T120000
DTEND;TZID=America/Chicago:20241009T130000
DTSTAMP:20260421T113634
CREATED:20240919T033538Z
LAST-MODIFIED:20240919T040839Z
UID:9421-1728475200-1728478800@lawrencecentralrotary.org
SUMMARY:LCR Weekly Speaker; Anahi Quezada
DESCRIPTION:LCR Member Anahi Quezada will provide us with a in-depth look at her home Rotary Club in Ecuador!
URL:https://lawrencecentralrotary.org/calendar/weekly-speaker-anahi-quezada/
LOCATION:Lawrence Country Club\, 400 Country Club Terrace\, Lawrence\, KS\, 66049\, United States
CATEGORIES:Weekly Meeting
END:VEVENT
BEGIN:VEVENT
DTSTART;TZID=America/Chicago:20241016T120000
DTEND;TZID=America/Chicago:20241016T130000
DTSTAMP:20260421T113634
CREATED:20240919T033816Z
LAST-MODIFIED:20240919T041057Z
UID:9423-1729080000-1729083600@lawrencecentralrotary.org
SUMMARY:LCR Weekly Speaker; John Williams
DESCRIPTION:City of Lawrence IT Network Manager John Williams will present Cyber Security 101!
URL:https://lawrencecentralrotary.org/calendar/weeklymeeting101624/
LOCATION:Lawrence Country Club\, 400 Country Club Terrace\, Lawrence\, KS\, 66049\, United States
CATEGORIES:Weekly Meeting
ATTACH;FMTTYPE=image/png:https://lawrencecentralrotary.org/wp-content/uploads/2023/01/lks-logo.png
END:VEVENT
BEGIN:VEVENT
DTSTART;TZID=America/Chicago:20241017T173000
DTEND;TZID=America/Chicago:20241017T193000
DTSTAMP:20260421T113634
CREATED:20241009T173652Z
LAST-MODIFIED:20241009T173652Z
UID:9468-1729186200-1729193400@lawrencecentralrotary.org
SUMMARY:Thirsty Thursday
DESCRIPTION:Join LCR members at Mr. Brew’s Taphouse (811 NH) for some fellowship and tasty beverages!
URL:https://lawrencecentralrotary.org/calendar/thirsty-thursday/
LOCATION:Mr. Brew’s Taphouse\, 811 New Hampshire St\, Lawrence\, KS\, 66044\, United States
CATEGORIES:LCR Event
END:VEVENT
BEGIN:VEVENT
DTSTART;TZID=America/Chicago:20241023T120000
DTEND;TZID=America/Chicago:20241023T130000
DTSTAMP:20260421T113634
CREATED:20240919T040635Z
LAST-MODIFIED:20240919T040831Z
UID:9426-1729684800-1729688400@lawrencecentralrotary.org
SUMMARY:LCR Weekly Speaker; Ginny Barnard
DESCRIPTION:Ginny Barnard\, Executive Director of LiveWell of Douglas County\, joins us this week to present about her professional career and the programs offered for Douglas County residents.
URL:https://lawrencecentralrotary.org/calendar/weekly-speaker-ginny-barnard/
LOCATION:Lawrence Country Club\, 400 Country Club Terrace\, Lawrence\, KS\, 66049\, United States
CATEGORIES:Weekly Meeting
END:VEVENT
BEGIN:VEVENT
DTSTART;TZID=America/Chicago:20241030T120000
DTEND;TZID=America/Chicago:20241030T130000
DTSTAMP:20260421T113634
CREATED:20240919T041038Z
LAST-MODIFIED:20240919T041038Z
UID:9433-1730289600-1730293200@lawrencecentralrotary.org
SUMMARY:LCR Weekly Speaker; Dawn Buehler
DESCRIPTION:Kansas River Keeper and Executive Director of Friends of the Kaw\, Dawn Buehler joins us to share information about one of our most important natural resources!
URL:https://lawrencecentralrotary.org/calendar/lcr-weekly-speaker-dawn-buehler/
LOCATION:Lawrence Country Club\, 400 Country Club Terrace\, Lawrence\, KS\, 66049\, United States
CATEGORIES:Weekly Meeting
END:VEVENT
BEGIN:VEVENT
DTSTART;TZID=America/Chicago:20241106T120000
DTEND;TZID=America/Chicago:20241106T130000
DTSTAMP:20260421T113634
CREATED:20241031T055735Z
LAST-MODIFIED:20241031T055949Z
UID:9499-1730894400-1730898000@lawrencecentralrotary.org
SUMMARY:First Wednesday; Daniel Palen
DESCRIPTION:LCR member Daniel Palen has flown over 1.6 million miles\, the vast majority since 2009. Daniel will share tricks of the trade\, an overview of the most useful travel points and ways for you to book your next dream trip!
URL:https://lawrencecentralrotary.org/calendar/weekly-speaker-daniel-palen/
LOCATION:Lawrence Country Club\, 400 Country Club Terrace\, Lawrence\, KS\, 66049\, United States
CATEGORIES:First Wednesday
END:VEVENT
BEGIN:VEVENT
DTSTART;TZID=America/Chicago:20241113T120000
DTEND;TZID=America/Chicago:20241113T130000
DTSTAMP:20260421T113634
CREATED:20241031T055914Z
LAST-MODIFIED:20241031T055914Z
UID:9501-1731499200-1731502800@lawrencecentralrotary.org
SUMMARY:Weekly Speaker; Janis Bunker\, Melissa Sieben\, Bob Rademacher - Polio  Plus
DESCRIPTION:Join us as our fellow LCR members offer an important talk about the status of the Polio Plus campaign.
URL:https://lawrencecentralrotary.org/calendar/weekly-speaker-janis-bunker-melissa-sieben-bob-rademacher-polio-plus/
LOCATION:Lawrence Country Club\, 400 Country Club Terrace\, Lawrence\, KS\, 66049\, United States
CATEGORIES:Weekly Meeting
END:VEVENT
BEGIN:VEVENT
DTSTART;TZID=America/Chicago:20241120T120000
DTEND;TZID=America/Chicago:20241120T130000
DTSTAMP:20260421T113634
CREATED:20241031T060147Z
LAST-MODIFIED:20241031T060147Z
UID:9505-1732104000-1732107600@lawrencecentralrotary.org
SUMMARY:Weekly Speaker; Harvesters
DESCRIPTION:LCR member Melissa Sieben will provide an overview of the Harvesters Community Food Network which provides life sustaining resources to members of our community.
URL:https://lawrencecentralrotary.org/calendar/weekly-speaker-harvesters/
LOCATION:Lawrence Country Club\, 400 Country Club Terrace\, Lawrence\, KS\, 66049\, United States
CATEGORIES:Weekly Meeting
END:VEVENT
BEGIN:VEVENT
DTSTART;TZID=America/Chicago:20241121T170000
DTEND;TZID=America/Chicago:20241121T193000
DTSTAMP:20260421T113634
CREATED:20241108T220439Z
LAST-MODIFIED:20241120T194332Z
UID:9533-1732208400-1732217400@lawrencecentralrotary.org
SUMMARY:Thirsty Thursday
DESCRIPTION:Join LCR members at Mr. Brew’s Taphouse (811 NH) for some fellowship and tasty beverages!
URL:https://lawrencecentralrotary.org/calendar/thirsty-thursday-2/
LOCATION:Mr. Brew’s Taphouse\, 811 New Hampshire St\, Lawrence\, KS\, 66044\, United States
CATEGORIES:Thirsty Thursday
END:VEVENT
BEGIN:VEVENT
DTSTART;TZID=America/Chicago:20241127T120000
DTEND;TZID=America/Chicago:20241127T130000
DTSTAMP:20260421T113634
CREATED:20241031T060239Z
LAST-MODIFIED:20241031T060239Z
UID:9507-1732708800-1732712400@lawrencecentralrotary.org
SUMMARY:No Meeting
DESCRIPTION:We hope you have a safe Thanksgiving! See you in December!
URL:https://lawrencecentralrotary.org/calendar/no-meeting-2/
LOCATION:Lawrence Country Club\, 400 Country Club Terrace\, Lawrence\, KS\, 66049\, United States
END:VEVENT
BEGIN:VEVENT
DTSTART;TZID=America/Chicago:20241129T173000
DTEND;TZID=America/Chicago:20241129T190000
DTSTAMP:20260421T113634
CREATED:20241112T032501Z
LAST-MODIFIED:20241112T032501Z
UID:9553-1732901400-1732906800@lawrencecentralrotary.org
SUMMARY:Downtown Holiday Lighting & Santa Rescue
DESCRIPTION:Join us for the return of the annual Downtown Holiday Lighting and Santa Rescue! \nMore information can be found here.
URL:https://lawrencecentralrotary.org/calendar/downtown-holiday-lighting-santa-rescue/
LOCATION:Downtown Lawrence\, Lawrence\, KS\, 66049\, United States
CATEGORIES:LCR Event
ATTACH;FMTTYPE=image/png:https://lawrencecentralrotary.org/wp-content/uploads/2024/11/2024-Santa-Rescue-Banner-Ad-1.png
END:VEVENT
BEGIN:VEVENT
DTSTART;TZID=America/Chicago:20241204T120000
DTEND;TZID=America/Chicago:20241204T130000
DTSTAMP:20260421T113634
CREATED:20241031T061301Z
LAST-MODIFIED:20241031T061301Z
UID:9509-1733313600-1733317200@lawrencecentralrotary.org
SUMMARY:LCR Holiday Party
DESCRIPTION:It’s time for another LCR Holiday Party! Please RSVP to Janis or Leticia by November 20th! The cost is $20/person and guests are welcome! As with past years\, the LHS Choir will be gracing us with their presence.
URL:https://lawrencecentralrotary.org/calendar/lcr-holiday-party/
LOCATION:Lawrence Country Club\, 400 Country Club Terrace\, Lawrence\, KS\, 66049\, United States
CATEGORIES:Party
END:VEVENT
BEGIN:VEVENT
DTSTART;TZID=America/Chicago:20241210T173000
DTEND;TZID=America/Chicago:20241210T193000
DTSTAMP:20260421T113634
CREATED:20241112T033139Z
LAST-MODIFIED:20241112T033139Z
UID:9556-1733851800-1733859000@lawrencecentralrotary.org
SUMMARY:Santa Letter Writing
DESCRIPTION:Join us for fellowship and beverages as we send letters back to the children who wrote to Santa at the Holiday Lighting/Santa Rescue on 29 Nov!
URL:https://lawrencecentralrotary.org/calendar/santa-letter-writing/
LOCATION:Mr. Brew’s Taphouse\, 811 New Hampshire St\, Lawrence\, KS\, 66044\, United States
CATEGORIES:LCR Event
END:VEVENT
BEGIN:VEVENT
DTSTART;TZID=America/Chicago:20241211T120000
DTEND;TZID=America/Chicago:20241211T130000
DTSTAMP:20260421T113634
CREATED:20241031T061625Z
LAST-MODIFIED:20241031T061625Z
UID:9512-1733918400-1733922000@lawrencecentralrotary.org
SUMMARY:Weekly Speaker; Amanda Sellet
DESCRIPTION:Amanda Sellet is an author presently residing in Lawrence (after stays in Virginia\, South Dakota\, England\, New York and others!) and is married to an archeologist. Ms. Sellet has released three books and her fourth will be hitting shelves in summer 2025. View her website for more information!
URL:https://lawrencecentralrotary.org/calendar/weekly-speaker-amanda-sellet/
LOCATION:Lawrence Country Club\, 400 Country Club Terrace\, Lawrence\, KS\, 66049\, United States
CATEGORIES:Weekly Meeting
END:VEVENT
BEGIN:VEVENT
DTSTART;TZID=America/Chicago:20241218T120000
DTEND;TZID=America/Chicago:20241218T130000
DTSTAMP:20260421T113634
CREATED:20241031T061728Z
LAST-MODIFIED:20241031T061728Z
UID:9514-1734523200-1734526800@lawrencecentralrotary.org
SUMMARY:Weekly Speaker; Rotary International Foundation
DESCRIPTION:Stay tuned for more information about a presentation by members of the Rotary International Foundation!
URL:https://lawrencecentralrotary.org/calendar/weekly-speaker-rotary-international-foundation/
LOCATION:Lawrence Country Club\, 400 Country Club Terrace\, Lawrence\, KS\, 66049\, United States
CATEGORIES:Weekly Meeting
END:VEVENT
BEGIN:VEVENT
DTSTART;TZID=America/Chicago:20241225T080000
DTEND;TZID=America/Chicago:20241225T170000
DTSTAMP:20260421T113634
CREATED:20241031T061848Z
LAST-MODIFIED:20241031T061859Z
UID:9517-1735113600-1735146000@lawrencecentralrotary.org
SUMMARY:No Meeting - Happy Holidays
DESCRIPTION:Lawrence Central Rotary wishes you and your family a happy holiday season and new year. We look forward to seeing you in 2025!
URL:https://lawrencecentralrotary.org/calendar/no-meeting-happy-holidays-2/
END:VEVENT
BEGIN:VEVENT
DTSTART;TZID=America/Chicago:20250115T120000
DTEND;TZID=America/Chicago:20250115T130000
DTSTAMP:20260421T113634
CREATED:20250108T183645Z
LAST-MODIFIED:20250108T183953Z
UID:9604-1736942400-1736946000@lawrencecentralrotary.org
SUMMARY:Weekly Speaker; Ron Renz
DESCRIPTION:Involved with aviation for over fifty years in a variety of careers\, including as a flight test engineer and test pilot\, Ron Renz will join us to give a presentation about his experience flying the North Atlantic! \n 
URL:https://lawrencecentralrotary.org/calendar/test/
LOCATION:Lawrence Country Club\, 400 Country Club Terrace\, Lawrence\, KS\, 66049\, United States
CATEGORIES:Weekly Meeting
END:VEVENT
BEGIN:VEVENT
DTSTART;TZID=America/Chicago:20250122T120000
DTEND;TZID=America/Chicago:20250122T130000
DTSTAMP:20260421T113634
CREATED:20250108T184506Z
LAST-MODIFIED:20250108T184956Z
UID:9608-1737547200-1737550800@lawrencecentralrotary.org
SUMMARY:Weekly Speaker; Kaitlyn Peine
DESCRIPTION:Join us for a talk with Kaitlyn Peine\, Community Health and Wellness Agent for K-State Research and Extension Douglas County\, as she talks about the Community Health Improvement Plan (CHIP) for 2024-2029 which is a plan meant to work on reducing the food uncertainty for members of our community.
URL:https://lawrencecentralrotary.org/calendar/weekly-speaker-kaitlyn-peine/
LOCATION:Lawrence Country Club\, 400 Country Club Terrace\, Lawrence\, KS\, 66049\, United States
CATEGORIES:Weekly Meeting
END:VEVENT
END:VCALENDAR